Package: ndexr Version: 1.29.0 Command: /home/biocbuild/R/R/bin/R CMD build --keep-empty-dirs --no-resave-data ndexr StartedAt: 2025-01-29 00:49:40 -0000 (Wed, 29 Jan 2025) EndedAt: 2025-01-29 00:49:53 -0000 (Wed, 29 Jan 2025) EllapsedTime: 13.0 seconds RetCode: 0 Status: OK PackageFile: ndexr_1.29.0.tar.gz PackageFileSize: 971.8 KiB