Package: ndexr Version: 1.29.0 Command: /home/biocbuild/R/R/bin/R CMD INSTALL ndexr StartedAt: 2025-01-29 19:36:29 -0000 (Wed, 29 Jan 2025) EndedAt: 2025-01-29 19:37:00 -0000 (Wed, 29 Jan 2025) EllapsedTime: 31.3 seconds RetCode: 0 Status: OK