Package: ndexr Version: 1.29.0 Command: rm -rf ndexr.buildbin-libdir && mkdir ndexr.buildbin-libdir && /Users/biocbuild/BBS/utils/build-universal.sh ndexr_1.29.0.tar.gz /Library/Frameworks/R.framework/Resources/bin/R ndexr.buildbin-libdir StartedAt: 2025-02-10 01:05:42 -0500 (Mon, 10 Feb 2025) EndedAt: 2025-02-10 01:05:49 -0500 (Mon, 10 Feb 2025) EllapsedTime: 6.9 seconds RetCode: 0 Status: OK PackageFile: ndexr_1.29.0.tgz PackageFileSize: 618.1 KiB