Package: ndexr Version: 1.29.0 Command: /Library/Frameworks/R.framework/Resources/bin/R CMD build --keep-empty-dirs --no-resave-data ndexr StartedAt: 2025-02-09 17:43:07 -0500 (Sun, 09 Feb 2025) EndedAt: 2025-02-09 17:43:52 -0500 (Sun, 09 Feb 2025) EllapsedTime: 44.5 seconds RetCode: 0 Status: OK PackageFile: ndexr_1.29.0.tar.gz PackageFileSize: 946.9 KiB