Package: ndexr Version: 1.29.0 Command: /Library/Frameworks/R.framework/Resources/bin/R CMD check --install=check:ndexr.install-out.txt --library=/Library/Frameworks/R.framework/Resources/library --no-vignettes --timings ndexr_1.29.0.tar.gz StartedAt: 2025-02-09 22:18:14 -0500 (Sun, 09 Feb 2025) EndedAt: 2025-02-09 22:19:26 -0500 (Sun, 09 Feb 2025) EllapsedTime: 72.2 seconds RetCode: 0 Status: OK CheckDir: ndexr.Rcheck Warnings: 0