Package: ndexr Version: 1.29.0 Command: /home/biocbuild/bbs-3.21-bioc/R/bin/R CMD build --keep-empty-dirs --no-resave-data ndexr StartedAt: 2025-02-09 18:23:19 -0500 (Sun, 09 Feb 2025) EndedAt: 2025-02-09 18:23:29 -0500 (Sun, 09 Feb 2025) EllapsedTime: 10.0 seconds RetCode: 0 Status: OK PackageFile: ndexr_1.29.0.tar.gz PackageFileSize: 946.9 KiB