Package: ndexr Version: 1.29.0 Command: /home/biocbuild/bbs-3.21-bioc/R/bin/R CMD check --install=check:ndexr.install-out.txt --library=/home/biocbuild/bbs-3.21-bioc/R/site-library --timings ndexr_1.29.0.tar.gz StartedAt: 2025-02-10 00:44:56 -0500 (Mon, 10 Feb 2025) EndedAt: 2025-02-10 00:46:00 -0500 (Mon, 10 Feb 2025) EllapsedTime: 64.1 seconds RetCode: 0 Status: OK CheckDir: ndexr.Rcheck Warnings: 0