Package: ndexr Version: 1.29.0 Command: /home/biocbuild/bbs-3.21-bioc/R/bin/R CMD INSTALL ndexr StartedAt: 2025-02-09 15:09:04 -0500 (Sun, 09 Feb 2025) EndedAt: 2025-02-09 15:09:07 -0500 (Sun, 09 Feb 2025) EllapsedTime: 2.9 seconds RetCode: 0 Status: OK