Package: ndexr Version: 1.29.0 Command: rm -rf ndexr.buildbin-libdir && mkdir ndexr.buildbin-libdir && E:\biocbuild\bbs-3.21-bioc\R\bin\R.exe CMD INSTALL --build --library=ndexr.buildbin-libdir ndexr_1.29.0.tar.gz StartedAt: 2025-02-05 08:28:25 -0500 (Wed, 05 Feb 2025) EndedAt: 2025-02-05 08:28:50 -0500 (Wed, 05 Feb 2025) EllapsedTime: 24.7 seconds RetCode: 0 Status: OK PackageFile: ndexr_1.29.0.zip PackageFileSize: 622.6 KiB