Package: ndexr Version: 1.29.0 Command: chmod a+r ndexr -R && E:\biocbuild\bbs-3.21-bioc\R\bin\R.exe CMD build --keep-empty-dirs --no-resave-data ndexr StartedAt: 2025-02-04 20:22:12 -0500 (Tue, 04 Feb 2025) EndedAt: 2025-02-04 20:22:49 -0500 (Tue, 04 Feb 2025) EllapsedTime: 36.9 seconds RetCode: 0 Status: OK PackageFile: ndexr_1.29.0.tar.gz PackageFileSize: 947.3 KiB