Package: ndexr Version: 1.29.0 Command: E:\biocbuild\bbs-3.21-bioc\R\bin\R.exe CMD check --no-multiarch --install=check:ndexr.install-out.txt --library=E:\biocbuild\bbs-3.21-bioc\R\library --no-vignettes --timings ndexr_1.29.0.tar.gz StartedAt: 2025-02-10 03:34:33 -0500 (Mon, 10 Feb 2025) EndedAt: 2025-02-10 03:35:47 -0500 (Mon, 10 Feb 2025) EllapsedTime: 73.4 seconds RetCode: 0 Status: OK CheckDir: ndexr.Rcheck Warnings: 0