Package: nempi Version: 1.15.0 Command: rm -rf nempi.buildbin-libdir && mkdir nempi.buildbin-libdir && /Users/biocbuild/BBS/utils/build-universal.sh nempi_1.15.0.tar.gz /Library/Frameworks/R.framework/Resources/bin/R nempi.buildbin-libdir StartedAt: 2025-02-04 22:25:19 -0500 (Tue, 04 Feb 2025) EndedAt: 2025-02-04 22:25:26 -0500 (Tue, 04 Feb 2025) EllapsedTime: 7.1 seconds RetCode: 0 Status: OK PackageFile: nempi_1.15.0.tgz PackageFileSize: 652.6 KiB