Package: nempi Version: 1.15.0 Command: /Library/Frameworks/R.framework/Resources/bin/R CMD check --install=check:nempi.install-out.txt --library=/Library/Frameworks/R.framework/Resources/library --no-vignettes --timings nempi_1.15.0.tar.gz StartedAt: 2025-02-04 20:26:54 -0500 (Tue, 04 Feb 2025) EndedAt: 2025-02-04 20:27:46 -0500 (Tue, 04 Feb 2025) EllapsedTime: 51.6 seconds RetCode: 0 Status: OK CheckDir: nempi.Rcheck Warnings: 0