Package: nempi Version: 1.15.0 Command: /Library/Frameworks/R.framework/Resources/bin/R CMD check --install=check:nempi.install-out.txt --library=/Library/Frameworks/R.framework/Resources/library --no-vignettes --timings nempi_1.15.0.tar.gz StartedAt: 2025-02-04 22:03:05 -0500 (Tue, 04 Feb 2025) EndedAt: 2025-02-04 22:05:35 -0500 (Tue, 04 Feb 2025) EllapsedTime: 150.4 seconds RetCode: 0 Status: OK CheckDir: nempi.Rcheck Warnings: 0