Package: nempi Version: 1.15.0 Command: /Library/Frameworks/R.framework/Resources/bin/R CMD INSTALL nempi StartedAt: 2025-02-09 15:41:54 -0500 (Sun, 09 Feb 2025) EndedAt: 2025-02-09 15:42:17 -0500 (Sun, 09 Feb 2025) EllapsedTime: 22.3 seconds RetCode: 0 Status: OK