Package: nempi Version: 1.15.0 Command: /home/biocbuild/bbs-3.21-bioc/R/bin/R CMD check --install=check:nempi.install-out.txt --library=/home/biocbuild/bbs-3.21-bioc/R/site-library --timings nempi_1.15.0.tar.gz StartedAt: 2025-02-05 00:53:08 -0500 (Wed, 05 Feb 2025) EndedAt: 2025-02-05 00:55:49 -0500 (Wed, 05 Feb 2025) EllapsedTime: 161.2 seconds RetCode: 0 Status: OK CheckDir: nempi.Rcheck Warnings: 0