Package: nempi Version: 1.15.0 Command: E:\biocbuild\bbs-3.21-bioc\R\bin\R.exe CMD check --no-multiarch --install=check:nempi.install-out.txt --library=E:\biocbuild\bbs-3.21-bioc\R\library --no-vignettes --timings nempi_1.15.0.tar.gz StartedAt: 2025-02-05 04:01:11 -0500 (Wed, 05 Feb 2025) EndedAt: 2025-02-05 04:03:56 -0500 (Wed, 05 Feb 2025) EllapsedTime: 164.8 seconds RetCode: 0 Status: OK CheckDir: nempi.Rcheck Warnings: 0