Package: nempi Version: 1.15.0 Command: E:\biocbuild\bbs-3.21-bioc\R\bin\R.exe CMD INSTALL nempi StartedAt: 2025-02-04 16:49:22 -0500 (Tue, 04 Feb 2025) EndedAt: 2025-02-04 16:49:44 -0500 (Tue, 04 Feb 2025) EllapsedTime: 21.5 seconds RetCode: 0 Status: OK