Package: netDx Version: 1.19.1 Maintainer: Shraddha Pai MaintainerEmail: shraddha.pai at utoronto.ca git_url: https://git.bioconductor.org/packages/netDx git_branch: devel git_last_commit: 11cd9eb git_last_commit_date: 2024-12-17 11:22:06 -0500 (Tue, 17 Dec 2024)