Package: netDx Version: 1.19.1 Command: /Library/Frameworks/R.framework/Resources/bin/R CMD build --keep-empty-dirs --no-resave-data netDx StartedAt: 2025-02-03 17:43:23 -0500 (Mon, 03 Feb 2025) EndedAt: 2025-02-03 17:44:40 -0500 (Mon, 03 Feb 2025) EllapsedTime: 76.8 seconds RetCode: 1 Status: ERROR PackageFile: None PackageFileSize: NA