Package: netDx Version: 1.19.1 Command: /home/biocbuild/R/R/bin/R CMD INSTALL netDx StartedAt: 2025-01-29 20:20:28 -0000 (Wed, 29 Jan 2025) EndedAt: 2025-01-29 20:21:11 -0000 (Wed, 29 Jan 2025) EllapsedTime: 43.0 seconds RetCode: 0 Status: OK