Package: netDx Version: 1.19.1 Command: /Library/Frameworks/R.framework/Resources/bin/R CMD build --keep-empty-dirs --no-resave-data netDx StartedAt: 2025-02-09 17:43:33 -0500 (Sun, 09 Feb 2025) EndedAt: 2025-02-09 17:47:54 -0500 (Sun, 09 Feb 2025) EllapsedTime: 261.7 seconds RetCode: 1 Status: ERROR PackageFile: None PackageFileSize: NA