Package: netDx Version: 1.19.1 Command: /Library/Frameworks/R.framework/Resources/bin/R CMD INSTALL netDx StartedAt: 2025-02-03 15:39:00 -0500 (Mon, 03 Feb 2025) EndedAt: 2025-02-03 15:39:40 -0500 (Mon, 03 Feb 2025) EllapsedTime: 40.2 seconds RetCode: 0 Status: OK