Package: netDx Version: 1.19.1 Command: /home/biocbuild/bbs-3.21-bioc/R/bin/R CMD build --keep-empty-dirs --no-resave-data netDx StartedAt: 2025-02-03 18:33:23 -0500 (Mon, 03 Feb 2025) EndedAt: 2025-02-03 18:37:02 -0500 (Mon, 03 Feb 2025) EllapsedTime: 219.4 seconds RetCode: 1 Status: ERROR PackageFile: None PackageFileSize: NA