Package: netboost Version: 2.15.0 Command: /Library/Frameworks/R.framework/Resources/bin/R CMD check --install=check:netboost.install-out.txt --library=/Library/Frameworks/R.framework/Resources/library --no-vignettes --timings netboost_2.15.0.tar.gz StartedAt: 2025-02-12 22:05:30 -0500 (Wed, 12 Feb 2025) EndedAt: 2025-02-12 22:08:52 -0500 (Wed, 12 Feb 2025) EllapsedTime: 201.7 seconds RetCode: 0 Status: WARNINGS CheckDir: netboost.Rcheck Warnings: 1