Package: netboost Version: 2.15.0 Command: /home/biocbuild/bbs-3.21-bioc/R/bin/R CMD build --keep-empty-dirs --no-resave-data netboost StartedAt: 2025-02-09 18:23:45 -0500 (Sun, 09 Feb 2025) EndedAt: 2025-02-09 18:24:42 -0500 (Sun, 09 Feb 2025) EllapsedTime: 57.0 seconds RetCode: 0 Status: OK PackageFile: netboost_2.15.0.tar.gz PackageFileSize: 1.138 MiB