Package: netboost Version: 2.15.0 Command: /home/biocbuild/bbs-3.21-bioc/R/bin/R CMD check --install=check:netboost.install-out.txt --library=/home/biocbuild/bbs-3.21-bioc/R/site-library --timings netboost_2.15.0.tar.gz StartedAt: 2025-02-10 00:45:44 -0500 (Mon, 10 Feb 2025) EndedAt: 2025-02-10 00:48:55 -0500 (Mon, 10 Feb 2025) EllapsedTime: 191.2 seconds RetCode: 0 Status: WARNINGS CheckDir: netboost.Rcheck Warnings: 1