Package: netboost Version: 2.15.0 Command: /home/biocbuild/bbs-3.21-bioc/R/bin/R CMD INSTALL netboost StartedAt: 2025-02-09 15:44:42 -0500 (Sun, 09 Feb 2025) EndedAt: 2025-02-09 15:45:29 -0500 (Sun, 09 Feb 2025) EllapsedTime: 46.6 seconds RetCode: 0 Status: OK