Package: netresponse Version: 1.67.0 Command: rm -rf netresponse.buildbin-libdir && mkdir netresponse.buildbin-libdir && /Users/biocbuild/BBS/utils/build-universal.sh netresponse_1.67.0.tar.gz /Library/Frameworks/R.framework/Resources/bin/R netresponse.buildbin-libdir StartedAt: 2025-02-09 22:23:37 -0500 (Sun, 09 Feb 2025) EndedAt: 2025-02-09 22:23:42 -0500 (Sun, 09 Feb 2025) EllapsedTime: 5.1 seconds RetCode: 0 Status: OK PackageFile: netresponse_1.67.0.tgz PackageFileSize: 1.293 MiB