Package: netresponse Version: 1.67.0 Command: /Library/Frameworks/R.framework/Resources/bin/R CMD build --keep-empty-dirs --no-resave-data netresponse StartedAt: 2025-02-09 17:07:26 -0500 (Sun, 09 Feb 2025) EndedAt: 2025-02-09 17:07:32 -0500 (Sun, 09 Feb 2025) EllapsedTime: 6.1 seconds RetCode: 0 Status: OK PackageFile: netresponse_1.67.0.tar.gz PackageFileSize: 975.5 KiB