Package: netresponse Version: 1.67.0 Command: rm -rf netresponse.buildbin-libdir && mkdir netresponse.buildbin-libdir && E:\biocbuild\bbs-3.21-bioc\R\bin\R.exe CMD INSTALL --build --library=netresponse.buildbin-libdir netresponse_1.67.0.tar.gz StartedAt: 2025-02-10 08:17:02 -0500 (Mon, 10 Feb 2025) EndedAt: 2025-02-10 08:18:26 -0500 (Mon, 10 Feb 2025) EllapsedTime: 84.2 seconds RetCode: 0 Status: OK PackageFile: netresponse_1.67.0.zip PackageFileSize: 1.298 MiB