Package: netresponse Version: 1.67.0 Command: chmod a+r netresponse -R && E:\biocbuild\bbs-3.21-bioc\R\bin\R.exe CMD build --keep-empty-dirs --no-resave-data netresponse StartedAt: 2025-02-12 20:26:09 -0500 (Wed, 12 Feb 2025) EndedAt: 2025-02-12 20:27:16 -0500 (Wed, 12 Feb 2025) EllapsedTime: 67.1 seconds RetCode: 0 Status: OK PackageFile: netresponse_1.67.0.tar.gz PackageFileSize: 975.6 KiB