Package: netresponse Version: 1.67.0 Command: E:\biocbuild\bbs-3.21-bioc\R\bin\R.exe CMD INSTALL netresponse StartedAt: 2025-02-12 16:52:47 -0500 (Wed, 12 Feb 2025) EndedAt: 2025-02-12 16:53:58 -0500 (Wed, 12 Feb 2025) EllapsedTime: 70.9 seconds RetCode: 0 Status: OK