Package: nipalsMCIA Version: 1.5.3 Maintainer: Maximilian Mattessich MaintainerEmail: maximilian.mattessich at northwestern.edu git_url: https://git.bioconductor.org/packages/nipalsMCIA git_branch: devel git_last_commit: 84bcfe6 git_last_commit_date: 2025-02-05 15:58:55 -0500 (Wed, 05 Feb 2025)