Package: nipalsMCIA Version: 1.5.3 Command: /Library/Frameworks/R.framework/Resources/bin/R CMD check --install=check:nipalsMCIA.install-out.txt --library=/Library/Frameworks/R.framework/Resources/library --no-vignettes --timings nipalsMCIA_1.5.3.tar.gz StartedAt: 2025-02-12 20:31:15 -0500 (Wed, 12 Feb 2025) EndedAt: 2025-02-12 20:33:09 -0500 (Wed, 12 Feb 2025) EllapsedTime: 114.5 seconds RetCode: 0 Status: WARNINGS CheckDir: nipalsMCIA.Rcheck Warnings: 1