Package: nipalsMCIA Version: 1.5.3 Command: /Library/Frameworks/R.framework/Resources/bin/R CMD INSTALL nipalsMCIA StartedAt: 2025-02-09 15:19:28 -0500 (Sun, 09 Feb 2025) EndedAt: 2025-02-09 15:19:39 -0500 (Sun, 09 Feb 2025) EllapsedTime: 10.6 seconds RetCode: 0 Status: OK