Package: nipalsMCIA Version: 1.5.3 Command: rm -rf nipalsMCIA.buildbin-libdir && mkdir nipalsMCIA.buildbin-libdir && /Users/biocbuild/BBS/utils/build-universal.sh nipalsMCIA_1.5.3.tar.gz /Library/Frameworks/R.framework/Resources/bin/R nipalsMCIA.buildbin-libdir StartedAt: 2025-02-10 01:06:04 -0500 (Mon, 10 Feb 2025) EndedAt: 2025-02-10 01:06:42 -0500 (Mon, 10 Feb 2025) EllapsedTime: 38.1 seconds RetCode: 0 Status: OK PackageFile: nipalsMCIA_1.5.3.tgz PackageFileSize: 4.017 MiB