Package: nipalsMCIA Version: 1.5.3 Command: /Library/Frameworks/R.framework/Resources/bin/R CMD build --keep-empty-dirs --no-resave-data nipalsMCIA StartedAt: 2025-02-09 17:44:43 -0500 (Sun, 09 Feb 2025) EndedAt: 2025-02-09 17:49:08 -0500 (Sun, 09 Feb 2025) EllapsedTime: 265.0 seconds RetCode: 0 Status: OK PackageFile: nipalsMCIA_1.5.3.tar.gz PackageFileSize: 3.784 MiB