Package: nipalsMCIA Version: 1.5.3 Command: /home/biocbuild/bbs-3.21-bioc/R/bin/R CMD check --install=check:nipalsMCIA.install-out.txt --library=/home/biocbuild/bbs-3.21-bioc/R/site-library --timings nipalsMCIA_1.5.3.tar.gz StartedAt: 2025-02-13 00:48:41 -0500 (Thu, 13 Feb 2025) EndedAt: 2025-02-13 00:56:23 -0500 (Thu, 13 Feb 2025) EllapsedTime: 461.6 seconds RetCode: 0 Status: WARNINGS CheckDir: nipalsMCIA.Rcheck Warnings: 1