Package: nipalsMCIA Version: 1.5.3 Command: /home/biocbuild/bbs-3.21-bioc/R/bin/R CMD INSTALL nipalsMCIA StartedAt: 2025-02-12 15:19:44 -0500 (Wed, 12 Feb 2025) EndedAt: 2025-02-12 15:20:10 -0500 (Wed, 12 Feb 2025) EllapsedTime: 26.1 seconds RetCode: 0 Status: OK