Package: nipalsMCIA Version: 1.5.3 Command: rm -rf nipalsMCIA.buildbin-libdir && mkdir nipalsMCIA.buildbin-libdir && E:\biocbuild\bbs-3.21-bioc\R\bin\R.exe CMD INSTALL --build --library=nipalsMCIA.buildbin-libdir nipalsMCIA_1.5.3.tar.gz StartedAt: 2025-02-10 08:17:28 -0500 (Mon, 10 Feb 2025) EndedAt: 2025-02-10 08:18:21 -0500 (Mon, 10 Feb 2025) EllapsedTime: 52.9 seconds RetCode: 0 Status: OK PackageFile: nipalsMCIA_1.5.3.zip PackageFileSize: 3.414 MiB