Package: nipalsMCIA Version: 1.5.3 Command: chmod a+r nipalsMCIA -R && E:\biocbuild\bbs-3.21-bioc\R\bin\R.exe CMD build --keep-empty-dirs --no-resave-data nipalsMCIA StartedAt: 2025-02-09 20:21:03 -0500 (Sun, 09 Feb 2025) EndedAt: 2025-02-09 20:35:04 -0500 (Sun, 09 Feb 2025) EllapsedTime: 841.2 seconds RetCode: 0 Status: OK PackageFile: nipalsMCIA_1.5.3.tar.gz PackageFileSize: 3.176 MiB