Package: nipalsMCIA Version: 1.5.3 Command: E:\biocbuild\bbs-3.21-bioc\R\bin\R.exe CMD INSTALL nipalsMCIA StartedAt: 2025-02-09 16:16:58 -0500 (Sun, 09 Feb 2025) EndedAt: 2025-02-09 16:17:41 -0500 (Sun, 09 Feb 2025) EllapsedTime: 42.9 seconds RetCode: 0 Status: OK