Package: nnNorm Version: 2.71.0 Command: rm -rf nnNorm.buildbin-libdir && mkdir nnNorm.buildbin-libdir && /Users/biocbuild/BBS/utils/build-universal.sh nnNorm_2.71.0.tar.gz /Library/Frameworks/R.framework/Resources/bin/R nnNorm.buildbin-libdir StartedAt: 2025-02-09 22:23:42 -0500 (Sun, 09 Feb 2025) EndedAt: 2025-02-09 22:23:44 -0500 (Sun, 09 Feb 2025) EllapsedTime: 2.0 seconds RetCode: 0 Status: OK PackageFile: nnNorm_2.71.0.tgz PackageFileSize: 196.3 KiB