Package: nnNorm Version: 2.71.0 Command: /Library/Frameworks/R.framework/Resources/bin/R CMD INSTALL nnNorm StartedAt: 2025-02-09 15:02:49 -0500 (Sun, 09 Feb 2025) EndedAt: 2025-02-09 15:02:53 -0500 (Sun, 09 Feb 2025) EllapsedTime: 3.4 seconds RetCode: 0 Status: OK