Package: nnNorm Version: 2.71.0 Command: /home/biocbuild/R/R/bin/R CMD build --keep-empty-dirs --no-resave-data nnNorm StartedAt: 2025-01-29 00:53:14 -0000 (Wed, 29 Jan 2025) EndedAt: 2025-01-29 00:54:13 -0000 (Wed, 29 Jan 2025) EllapsedTime: 59.2 seconds RetCode: 0 Status: OK PackageFile: nnNorm_2.71.0.tar.gz PackageFileSize: 1.592 MiB