Package: nnNorm Version: 2.71.0 Command: /home/biocbuild/R/R/bin/R CMD INSTALL nnNorm StartedAt: 2025-01-29 19:35:15 -0000 (Wed, 29 Jan 2025) EndedAt: 2025-01-29 19:35:25 -0000 (Wed, 29 Jan 2025) EllapsedTime: 9.8 seconds RetCode: 0 Status: OK