Package: nnNorm Version: 2.71.0 Command: rm -rf nnNorm.buildbin-libdir && mkdir nnNorm.buildbin-libdir && /Users/biocbuild/BBS/utils/build-universal.sh nnNorm_2.71.0.tar.gz /Library/Frameworks/R.framework/Resources/bin/R nnNorm.buildbin-libdir StartedAt: 2025-02-10 01:06:04 -0500 (Mon, 10 Feb 2025) EndedAt: 2025-02-10 01:06:11 -0500 (Mon, 10 Feb 2025) EllapsedTime: 6.9 seconds RetCode: 0 Status: OK PackageFile: nnNorm_2.71.0.tgz PackageFileSize: 195.5 KiB