Package: nnNorm Version: 2.71.0 Command: /Library/Frameworks/R.framework/Resources/bin/R CMD build --keep-empty-dirs --no-resave-data nnNorm StartedAt: 2025-02-03 17:43:05 -0500 (Mon, 03 Feb 2025) EndedAt: 2025-02-03 17:43:52 -0500 (Mon, 03 Feb 2025) EllapsedTime: 46.6 seconds RetCode: 0 Status: OK PackageFile: nnNorm_2.71.0.tar.gz PackageFileSize: 1.589 MiB