Package: nnNorm Version: 2.71.0 Command: /Library/Frameworks/R.framework/Resources/bin/R CMD check --install=check:nnNorm.install-out.txt --library=/Library/Frameworks/R.framework/Resources/library --no-vignettes --timings nnNorm_2.71.0.tar.gz StartedAt: 2025-02-03 22:07:27 -0500 (Mon, 03 Feb 2025) EndedAt: 2025-02-03 22:08:50 -0500 (Mon, 03 Feb 2025) EllapsedTime: 82.5 seconds RetCode: 0 Status: OK CheckDir: nnNorm.Rcheck Warnings: 0